BEGIN:VCALENDAR
VERSION:2.0
PRODID:-//www.wohlen-be.ch//NONSGML kigkonsult.se iCalcreator 2.22//
CALSCALE:GREGORIAN
METHOD:PUBLISH
X-WR-TIMEZONE:Europe/Berlin
BEGIN:VEVENT
UID:20260419T230449CEST-42683N42uH@www.wohlen-be.ch
DTSTAMP:20260419T210449Z
DESCRIPTION:Klicken Sie auf den folgenden Link\, um weitere Informationen z
 ur Veranstaltung zu erhalten:\nhttp://www.wohlen-be.ch/schulen/veranstaltu
 ngen/detail/detail.php?i=67
DTSTART:20260413T000000
DTEND:20260417T000000
LOCATION:Wohlen und Hinterkappelen
SUMMARY:Ferienoase / Ferienbetreuung Frühlingsferien
END:VEVENT
END:VCALENDAR
