BEGIN:VCALENDAR
VERSION:2.0
PRODID:-//www.wohlen-be.ch//NONSGML kigkonsult.se iCalcreator 2.22//
CALSCALE:GREGORIAN
METHOD:PUBLISH
X-WR-TIMEZONE:Europe/Berlin
BEGIN:VEVENT
UID:20260422T144548CEST-97527CBumH@www.wohlen-be.ch
DTSTAMP:20260422T124548Z
DESCRIPTION:Klicken Sie auf den folgenden Link\, um weitere Informationen z
 ur Veranstaltung zu erhalten:\nhttp://www.wohlen-be.ch/de/veranstaltungen/
 detail/detail.php?i=5629
DTSTART:20260910T140000
DTEND:20260910T160000
LOCATION:Tennisclub Wohlensee
SUMMARY:Open Padel Nachmittag für Senior:innen
END:VEVENT
END:VCALENDAR
