BEGIN:VCALENDAR
VERSION:2.0
PRODID:-//www.wohlen-be.ch//NONSGML kigkonsult.se iCalcreator 2.22//
CALSCALE:GREGORIAN
METHOD:PUBLISH
X-WR-TIMEZONE:Europe/Berlin
BEGIN:VEVENT
UID:20260422T144552CEST-5127z8WxXm@www.wohlen-be.ch
DTSTAMP:20260422T124552Z
DESCRIPTION:Klicken Sie auf den folgenden Link\, um weitere Informationen z
 ur Veranstaltung zu erhalten:\nhttp://www.wohlen-be.ch/de/veranstaltungen/
 detail/detail.php?i=5626
DTSTART:20260728T093000
DTEND:20260728T113000
LOCATION:Tennisclub Wohlensee
SUMMARY:Open Padel Vormittag für Senior:innen
END:VEVENT
END:VCALENDAR
