BEGIN:VCALENDAR
VERSION:2.0
PRODID:-//www.wohlen-be.ch//NONSGML kigkonsult.se iCalcreator 2.22//
CALSCALE:GREGORIAN
METHOD:PUBLISH
X-WR-TIMEZONE:Europe/Berlin
BEGIN:VEVENT
UID:20260422T144552CEST-3180F2UL11@www.wohlen-be.ch
DTSTAMP:20260422T124552Z
DESCRIPTION:Klicken Sie auf den folgenden Link\, um weitere Informationen z
 ur Veranstaltung zu erhalten:\nhttp://www.wohlen-be.ch/de/veranstaltungen/
 detail/detail.php?i=5620
DTSTART:20260506T140000
DTEND:20260506T160000
LOCATION:Tennisclub Wohlensee
SUMMARY:Open Padel Nachmittag für Senior:innen
END:VEVENT
END:VCALENDAR
