BEGIN:VCALENDAR
VERSION:2.0
PRODID:-//www.wohlen-be.ch//NONSGML kigkonsult.se iCalcreator 2.22//
CALSCALE:GREGORIAN
METHOD:PUBLISH
X-WR-TIMEZONE:Europe/Berlin
BEGIN:VEVENT
UID:20260422T145353CEST-6269KUBULh@www.wohlen-be.ch
DTSTAMP:20260422T125353Z
DESCRIPTION:Klicken Sie auf den folgenden Link\, um weitere Informationen z
 ur Veranstaltung zu erhalten:\nhttp://www.wohlen-be.ch/de/veranstaltungen/
 detail/detail.php?i=5605
DTSTART:20260420T143000
DTEND:20260420T163000
LOCATION:Kipferhaus Hinterkappelen
SUMMARY:Lesung und Gespräch mit Andreas Neugebauer
END:VEVENT
END:VCALENDAR
