BEGIN:VCALENDAR
VERSION:2.0
PRODID:-//www.wohlen-be.ch//NONSGML kigkonsult.se iCalcreator 2.22//
CALSCALE:GREGORIAN
METHOD:PUBLISH
X-WR-TIMEZONE:Europe/Berlin
BEGIN:VEVENT
UID:20260425T144730CEST-1389eHomKX@www.wohlen-be.ch
DTSTAMP:20260425T124730Z
DESCRIPTION:Klicken Sie auf den folgenden Link\, um weitere Informationen z
 ur Veranstaltung zu erhalten:\nhttp://www.wohlen-be.ch/de/veranstaltungen/
 detail/detail.php?i=5533
DTSTART:20260425T090000
DTEND:20260425T123000
LOCATION:Waldegg im Bergfeld
SUMMARY:NVW 1. Brutkontrolle
END:VEVENT
END:VCALENDAR
