BEGIN:VCALENDAR
VERSION:2.0
PRODID:-//www.wohlen-be.ch//NONSGML kigkonsult.se iCalcreator 2.22//
CALSCALE:GREGORIAN
METHOD:PUBLISH
X-WR-TIMEZONE:Europe/Berlin
BEGIN:VEVENT
UID:20260422T144714CEST-35313R9ms4@www.wohlen-be.ch
DTSTAMP:20260422T124714Z
DESCRIPTION:Klicken Sie auf den folgenden Link\, um weitere Informationen z
 ur Veranstaltung zu erhalten:\nhttp://www.wohlen-be.ch/de/veranstaltungen/
 detail/detail.php?i=5526
DTSTART:20260422T090000
DTEND:20260422T110000
LOCATION:Reberhaus Uettligen 
SUMMARY:'Zmorgen' für alle mit Vortrag der Stiftung Kinderinsel Thema: 'Kin
 der brauchen mehr als Medizin'
END:VEVENT
END:VCALENDAR
