BEGIN:VCALENDAR
VERSION:2.0
PRODID:-//www.wohlen-be.ch//NONSGML kigkonsult.se iCalcreator 2.22//
CALSCALE:GREGORIAN
METHOD:PUBLISH
X-WR-TIMEZONE:Europe/Berlin
BEGIN:VEVENT
UID:20260420T030351CEST-6114vk6WXs@www.wohlen-be.ch
DTSTAMP:20260420T010351Z
DESCRIPTION:Klicken Sie auf den folgenden Link\, um weitere Informationen z
 ur Veranstaltung zu erhalten:\nhttp://www.wohlen-be.ch/de/veranstaltungen/
 detail/detail.php?i=4669
DTSTART:20260420T010000
DTEND:20260420T000000
LOCATION:Aumatt\, Hinterkappelen
SUMMARY:QHHT- Quantenheilung Hypnose
END:VEVENT
END:VCALENDAR
